BEGIN:VCALENDAR
VERSION:2.0
PRODID:icalendar-ruby
CALSCALE:GREGORIAN
METHOD:PUBLISH
BEGIN:VEVENT
DTSTAMP:20260423T045142Z
UID:26-478948@newcanaanlb.org
DTSTART:20261001T020000Z
DTEND:20261001T030000Z
CLASS:PUBLIC
CREATED:20260422T182627
DESCRIPTION:
LAST-MODIFIED:20260422T182627
LOCATION:424 N Mercey Springs Rd\, Los Banos CA 93635
SUMMARY:Bible Study
URL;VALUE=URI:https://www.newcanaanlb.org/events/bible-study/2026-09-30
END:VEVENT
END:VCALENDAR
