BEGIN:VCALENDAR
VERSION:2.0
PRODID:icalendar-ruby
CALSCALE:GREGORIAN
METHOD:PUBLISH
BEGIN:VEVENT
DTSTAMP:20260423T121509Z
UID:26-479321@newcanaanlb.org
DTSTART:20261029T020000Z
DTEND:20261029T030000Z
CLASS:PUBLIC
CREATED:20260423T035538
DESCRIPTION:
LAST-MODIFIED:20260423T035538
LOCATION:424 N Mercey Springs Rd\, Los Banos CA 93635
SUMMARY:Bible Study
URL;VALUE=URI:https://www.newcanaanlb.org/events/bible-study/2026-10-28
END:VEVENT
END:VCALENDAR
