BEGIN:VCALENDAR
VERSION:2.0
PRODID:icalendar-ruby
CALSCALE:GREGORIAN
METHOD:PUBLISH
BEGIN:VEVENT
DTSTAMP:20260421T223038Z
UID:28-476447@newcanaanlb.org
DTSTART:20260913T163000Z
DTEND:20260913T173000Z
CLASS:PUBLIC
CREATED:20260421T141816
DESCRIPTION:Sunday School
LAST-MODIFIED:20260421T141816
LOCATION:424 N. Mercey Springs Rd\, Los Banos CA 93635
SUMMARY:Sunday School
URL;VALUE=URI:https://www.newcanaanlb.org/events/sunday-school--28/2026-09-
 13
END:VEVENT
END:VCALENDAR
