BEGIN:VCALENDAR
VERSION:2.0
PRODID:icalendar-ruby
CALSCALE:GREGORIAN
METHOD:PUBLISH
BEGIN:VEVENT
DTSTAMP:20260422T115603Z
UID:28-477192@newcanaanlb.org
DTSTART:20261101T173000Z
DTEND:20261101T183000Z
CLASS:PUBLIC
CREATED:20260422T035527
DESCRIPTION:Sunday School
LAST-MODIFIED:20260422T035527
LOCATION:424 N. Mercey Springs Rd\, Los Banos CA 93635
SUMMARY:Sunday School
URL;VALUE=URI:https://www.newcanaanlb.org/events/sunday-school--28/2026-11-
 01
END:VEVENT
END:VCALENDAR
