BEGIN:VCALENDAR
VERSION:2.0
PRODID:icalendar-ruby
CALSCALE:GREGORIAN
METHOD:PUBLISH
BEGIN:VEVENT
DTSTAMP:20260422T004922Z
UID:12-476647@newcanaanlb.org
DTSTART:20260920T180000Z
DTEND:20260920T190000Z
CLASS:PUBLIC
CREATED:20260421T165654
DESCRIPTION:We invite you to join us for our Sunday worship services in-p
 erson or online each week at 11:00 AM. We encourage everyone to invite the
 ir friends and family to come and be our guest!\nWe look forward to seei
 ng you there!\nPastor Keith
LAST-MODIFIED:20260421T165654
LOCATION:424 N Mercey Springs Rd\, Los Banos CA 93635
SUMMARY:Sunday Service 
URL;VALUE=URI:https://www.newcanaanlb.org/events/sunday-service--12/2026-09
 -20
END:VEVENT
END:VCALENDAR
